BEGIN:VCALENDAR
VERSION:2.0
PRODID:-//Kulla kapell - ECPv5.1.6//NONSGML v1.0//EN
CALSCALE:GREGORIAN
METHOD:PUBLISH
X-WR-CALNAME:Kulla kapell
X-ORIGINAL-URL:https://www.kullakapell.nu
X-WR-CALDESC:Händelser för Kulla kapell
BEGIN:VTIMEZONE
TZID:UTC
BEGIN:STANDARD
TZOFFSETFROM:+0000
TZOFFSETTO:+0000
TZNAME:UTC
DTSTART:20160101T000000
END:STANDARD
END:VTIMEZONE
BEGIN:VEVENT
DTSTART;TZID=UTC:20160423T140000
DTEND;TZID=UTC:20160423T153000
DTSTAMP:20260423T071944
CREATED:20160224T151308Z
LAST-MODIFIED:20160224T151308Z
UID:564-1461420000-1461425400@www.kullakapell.nu
SUMMARY:Vigsel 23 april kl.14.00
DESCRIPTION:
URL:https://www.kullakapell.nu/?tribe_events=vigsel-23-april-kl-14-00
END:VEVENT
END:VCALENDAR