BEGIN:VCALENDAR
VERSION:2.0
PRODID:-//Kulla kapell - ECPv5.1.6//NONSGML v1.0//EN
CALSCALE:GREGORIAN
METHOD:PUBLISH
X-WR-CALNAME:Kulla kapell
X-ORIGINAL-URL:https://www.kullakapell.nu
X-WR-CALDESC:Händelser för Kulla kapell
BEGIN:VTIMEZONE
TZID:UTC
BEGIN:STANDARD
TZOFFSETFROM:+0000
TZOFFSETTO:+0000
TZNAME:UTC
DTSTART:20150101T000000
END:STANDARD
END:VTIMEZONE
BEGIN:VEVENT
DTSTART;TZID=UTC:20151231T140000
DTEND;TZID=UTC:20151231T170000
DTSTAMP:20260423T031502
CREATED:20151026T213914Z
LAST-MODIFIED:20151026T214048Z
UID:497-1451570400-1451581200@www.kullakapell.nu
SUMMARY:Vigsel 31/12 kl. 14.00 och kl. 16.00
DESCRIPTION:
URL:https://www.kullakapell.nu/?tribe_events=vigsel-3112-kl-14-00-och-kl-16-00
END:VEVENT
END:VCALENDAR